Workbook

Sheet Sheet1
A1: Due | B1: Actually Done | C1: Read + Summarized | D1: Section | E1: Subsection | F1: Subsubsection | G1: Work
A2: 44242 | B2: -- | D2: Communication Theory | E2: What is Communication? | F2: Definitional Work | G2: Carey, J. W. (1988). A Cultural Approach to Communication. In T. W. Adorno (Ed.), Communication as Culture: Essays on Media and Society (pp. 13–36). Unwin Hyman.
A3: 44242 | B3: -- | D3: Communication Theory | E3: What is Communication? | F3: Definitional Work | G3: Peters, J. D. (1994). The gaps of which communication is made. Critical Studies in Mass Communication, 11(2), 117–140.
A4: 44242 | B4: -- | D4: Communication Theory | E4: What is Communication? | F4: Definitional Work | G4: Peters, J. D. (1999a). Chapter 1: Dialogue and Dissemination. In Speaking into the Air. University of Chicago Press.
A5: 44242 | B5: -- | D5: Communication Theory | E5: What is Communication? | F5: Definitional Work | G5: Peters, J. D. (1999b). Introduction. In Speaking into the Air. University of Chicago Press.
A6: 44242 | B6: -- | D6: Communication Theory | E6: What is Communication? | F6: Historical Accounts and Discipline Overviews | G6: Schramm, W. (1983). The Unique Perspective of Communication: A Retrospective View. Journal of Communication, 33(3), 6–17. https://doi.org/10.1111/j.1460-2466.1983.tb02401.x
A7: 44242 | B7: -- | D7: Communication Theory | E7: What is Communication? | F7: Historical Accounts and Discipline Overviews | G7: Cohen, H. (1985). The Development of Research in Speech Communication: A Historical Perspective. In T. Benson (Ed.), Speech Communication in the 20th Century (pp. 282–298). Southern Illinois University Press.
A8: 44242 | B8: -- | D8: Communication Theory | E8: What is Communication? | F8: Historical Accounts and Discipline Overviews | G8: Condit, C. M. (1990). The birth of understanding: Chaste science and the harlot of the arts. Communication Monographs, 57(4), 323–327. https://doi.org/10.1080/03637759009376207
A9: 44242 | B9: -- | D9: Communication Theory | E9: What is Communication? | F9: Historical Accounts and Discipline Overviews | G9: Peters, J. D. (1993). Genealogical Notes on “The Field.” Journal of Communication, 43(4), 132–139. https://doi.org/10.1111/j.1460-2466.1993.tb01313.x
A10: 44242 | B10: -- | D10: Communication Theory | E10: What is Communication? | F10: Historical Accounts and Discipline Overviews | G10: Rogers, E. M. (1997a). The Chicago School. In A History of Communication Study: A Biographical Approach. (pp. 137–202). Free Press.
A11: 44242 | B11: -- | D11: Communication Theory | E11: What is Communication? | F11: Historical Accounts and Discipline Overviews | G11: Rogers, E. M. (1997b). The Growth of Communication Study in America. In A History of Communication Study: A Biographical Approach. (pp. 128–136). Free Press.
A12: 44242 | B12: -- | D12: Communication Theory | E12: What is Communication? | F12: Historical Accounts and Discipline Overviews | G12: Gehrke, P. J., & Keith, W. M. (2014). Introduction: A Brief History of the National Communication Association. In P. J. Gehrke & W. M. Keith (Eds.), A Century of Communication Studies: The Unfinished Conversation. Routledge.
A13: 44242 | B13: -- | D13: Communication Theory | E13: What is Communication? | F13: Historical Accounts and Discipline Overviews | G13: Gunn, J. E., & Dance, G. J. X. (2014). The Silencing of Speech in the Late Twentieth Century. In P. J. Gehrke & W. M. Keith (Eds.), A Century of Communication Studies: The Unfinished Conversation. Routledge.
A14: 44242 | B14: -- | D14: Communication Theory | E14: What is Communication? | F14: Historical Accounts and Discipline Overviews | G14: Morris, C. E., III, & Palczewski, C. H. (2014). Sexing Communication. In P. J. Gehrke & W. M. Keith (Eds.), A Century of Communication Studies: The Unfinished Conversation. Routledge.
A15: 44242 | B15: -- | D15: Communication Theory | E15: What is Theory? | G15: Burke, K. (1966). 3. Terministic Screens. In Language as Symbolic Action: Essays on Life, Literature, and Method. University of California Press.
A16: 44242 | B16: -- | D16: Communication Theory | E16: What is Theory? | G16: Christian, B. (1988). The Race for Theory. Feminist Studies, 14.
A17: 44242 | B17: -- | D17: Communication Theory | E17: What is Theory? | G17: Edelman, M. (1988a). 1. Some Premises about Politics. In Constructing the Political Spectacle. University of Chicago Press.
A18: 44242 | B18: -- | D18: Communication Theory | E18: What is Theory? | G18: Edelman, M. (1988b). 2. The Construction and Uses of Social Problems. In Constructing the Political Spectacle. University of Chicago Press.
A19: =A16+1 -> 44243 | B19: 44243 | D19: Communication Theory | E19: What is Theory? | G19: Hacking, I. (2000). Why ask what? In The Social Construction of What? Harvard University Press.
A20: =A17+1 -> 44243 | B20: 44243 | D20: Communication Theory | E20: What is Theory? | G20: Miller, J. (2000). Is bad writing necessary? Lingua Franca, 9(9).
A21: 44245 | B21: 44246 | D21: Communication Theory | E21: What is Theory? | G21: Abbot, A. (2004). Methods of Discovery: Heuristics for the Social Sciences. W. W. Norton & Company.
A22: 44243 | B22: 44243 | D22: Communication Theory | E22: What is Theory? | G22: Taylor, C. (2004). 2. What is a Social Imaginary? In Modern Social Imaginaries. Duke University Press.
A23: 44246 | B23: 44246 | D23: Communication Theory | E23: What is Theory? | G23: Snow, C. P. (1959). The Two Cultures.
A24: 44247 | B24: 44248 | C24: 6 chapters | D24: Communication Theory | E24: What is Theory? | F24: [BAD] | G24: Kagan, J. (2009). The three cultures: Natural sciences, social sciences, and the humanities in the 21st century. Cambridge University Press.
A25: 44248 | B25: 44248 | D25: Communication Theory | E25: What is Theory? | G25: Healy, K. (2017). Fuck Nuance. Sociological Theory, 35(2), 118–127. https://doi.org/10.1177/0735275117709046
A26: 44248 | B26: 44255 | D26: Communication Theory | E26: What is Communication Theory? | G26: Anderson, J.A. (1996a). Ch 2. In Communication Theory: Epistemological Foundations (pp. 13–46). The Guilford Press.
A27: 44248 | B27: 44255 | D27: Communication Theory | E27: What is Communication Theory? | G27: Anderson, J.A. (1996b). Ch 8. In Communication Theory: Epistemological Foundations (pp. 186–199). The Guilford Press.
A28: =A25+1 -> 44249 | B28: 44256 | D28: Communication Theory | E28: What is Communication Theory? | G28: Craig, R. T. (1999). Communication Theory as a Field. 9(2), 119–161.
A29: =A26+1 -> 44249 | B29: 44256 | D29: Communication Theory | E29: What is Communication Theory? | G29: Myers, D. (2001). A pox on all compromises: Reply to Craig (1999). Communication Theory, 11(2), 218–230.
A30: =A27+1 -> 44249 | B30: 44256 | D30: Communication Theory | E30: What is Communication Theory? | G30: Craig, R. T. (2001). Minding my metamodel, mending Myers. Communication Theory, 11(2), 231–240.
A31: =A28+1 -> 44250 | B31: 44256 | D31: Communication Theory | E31: What is Communication Theory? | G31: Barge, J. K. (2001). Practical theory as mapping, engaged reflection, and transformative practice. Communication Theory, 11(1), 5–13. https://doi.org/10.1111/j.1468-2885.2001.tb00230.x
A32: =A29+1 -> 44250 | B32: 44256 | D32: Communication Theory | E32: What is Communication Theory? | G32: Miller, K. (2004). Philosophical Foundations: What is Theory? In Communication Theories: Perspectives, Processes, and Contexts. McGraw-Hill.
A33: =A30+1 -> 44250 | B33: 44257 | D33: Communication Theory | E33: What is Communication Theory? | G33: Russill, C. (2005). The Road Not Taken: William James’s Radical Empiricism and Communication Theory. The Communication Review, 8(3), 277–305. https://doi.org/10.1080/10714420500240474
A34: =A31+1 -> 44251 | B34: 44257 | D34: Communication Theory | E34: What is Communication Theory? | G34: Craig, R. T. (2006). Communication as a practice. In G. J. Shepherd, J. St. John, & T. Striphas (Eds.), Communication as...: Perspectives On Theory (pp. 38–47). SAGE Publications.
A35: =A32+1 -> 44251 | B35: 44258 | D35: Communication Theory | E35: What is Communication Theory? | G35: Craig, R. T. (2009). Metatheory. In Encyclopedia of Communication Theory. SAGE.
A36: =A33+1 -> 44251 | B36: 44258 | D36: Communication Theory | E36: What is Communication Theory? | G36: Lindlof, T. R., & Taylor, B. C. (2010). Four Paradigms and (Maybe) a Funeral. In Qualitative Communication Research Methods (3rd ed.). SAGE.
A37: =A34+1 -> 44252 | B37: 44258 | D37: Communication Theory | E37: What is Communication Theory? | G37: Anderson, James A., & Middleton, M. K. (2014). Epistemological Movements in Communication. In P. J. Gehrke & W. M. Keith (Eds.), A Century of Communication Studies: The Unfinished Conversation. Routledge.
A38: =A35+1 -> 44252 | B38: 44258 | D38: Communication Theory | E38: What is Communication Theory? | G38: Craig, R. T. (2015). The Constitutive Metamodel: A 16-Year Review: The Constitutive Metamodel. Communication Theory, 25(4), 356–374. https://doi.org/10.1111/comt.12076
A39: =A36+1 -> 44252 | B39: 44259 | D39: Communication Theory | E39: Subdisciplines and Perspectives | F39: Communication Technology and Society | G39: Winner, L. (1980). Do Artifacts Have Politics? Daedalus, 109(1), 121–136.
A40: =A37+1 -> 44253 | B40: 44266 | D40: Communication Theory | E40: Subdisciplines and Perspectives | F40: Communication Technology and Society | G40: Woolgar, S., & Cooper, G. (1999). Do Artefacts Have Ambivalence? Moses’ Bridges, Winner’s Bridges and Other Urban Legends in S&TS. Social Studies of Science, 29(3), 433–449.
...

Sheet Sheet2
A1: Removed
A2: =Sheet1!A54+1 -> 44270 | D2: Communication Theory | E2: Subdisciplines and Perspectives | F2: Critical-Cultural Perspectives | G2: Hall, S. (1990). Cultural Identity and Diaspora. In J. Rutherford (Ed.), Identity: Community, Culture, Difference. Lawrence & Wishart.
A3: =Sheet1!A55+1 -> 44270 | D3: Communication Theory | E3: Subdisciplines and Perspectives | F3: Critical-Cultural Perspectives | G3: Hall, S. (1997). The work of representation. In Cultural Representations and Signifying Practices (pp. 13–67). SAGE.
A4: =Sheet1!A56+1 -> 44271 | D4: Communication Theory | E4: Subdisciplines and Perspectives | F4: Critical-Cultural Perspectives | G4: During, S. (1999). Introduction. In The Cultural Studies Reader (3rd ed.). Routledge.
A5: =Sheet1!A57+1 -> 44271 | D5: Communication Theory | E5: Subdisciplines and Perspectives | F5: Critical-Cultural Perspectives | G5: Dow, B. J., & Condit, C. M. (2005). The State of the Art in Feminist Scholarship in Communication. Journal of Communication, 55(3), 448–478. https://doi.org/10.1111/j.1460-2466.2005.tb02681.x
A6: =Sheet1!A58+1 -> 44271 | D6: Communication Theory | E6: Subdisciplines and Perspectives | F6: Critical-Cultural Perspectives | G6: Hesmondhalgh, D. (2007). Chapter 1. In Cultural Industries (pp. 29–50). SAGE.
A7: =Sheet2!A2+1 -> 44271 | D7: Communication Theory | E7: Subdisciplines and Perspectives | F7: Critical-Cultural Perspectives | G7: Darling-Wolf, F. (2009). Gender and Media. In S. W. Littlejohn & K. A. Foss (Eds.), Encyclopedia of Communication Theory (pp. 438–441). SAGE.
A8: =Sheet2!A3+1 -> 44271 | D8: Communication Theory | E8: Subdisciplines and Perspectives | F8: Critical-Cultural Perspectives | G8: Griffin, C. L. (2009). Feminist Communication Theories. In S. W. Littlejohn & K. A. Foss (Eds.), Encyclopedia of Communication Theory. SAGE.
A9: =Sheet2!A4+1 -> 44272 | D9: Communication Theory | E9: Subdisciplines and Perspectives | F9: Critical-Cultural Perspectives | G9: Bronner, S. E. (2011a). 1. The Frankfurt School. In Critical Theory: A Very Short Introduction. Oxford University Press.
A10: =Sheet2!A5+1 -> 44272 | D10: Communication Theory | E10: Subdisciplines and Perspectives | F10: Critical-Cultural Perspectives | G10: Bronner, S. E. (2011b). Introduction: What is critical theory? In Critical Theory: A Very Short Introduction. Oxford University Press.
A11: =Sheet2!A6+1 -> 44272 | D11: Communication Theory | E11: Subdisciplines and Perspectives | F11: Critical-Cultural Perspectives | G11: Nakamura, L., & Chow-White, P. (Eds.). (2012). Introduction. In Race After the Internet. Routledge.
A12: =Sheet2!A7+1 -> 44272 | D12: Communication Theory | E12: Subdisciplines and Perspectives | F12: Critical-Cultural Perspectives | G12: Joseph, R. (2017). What’s the Difference with “Difference.” International Journal of Communication, 11, 3306–3326.
A13: =Sheet2!A8+1 -> 44272 | D13: Communication Theory | E13: Subdisciplines and Perspectives | F13: Engaged Scholarship | G13: Cancian, F. M. (1993). Conflicts between activist research and academic success: Participatory research and alternative strategies. The American Sociologist, 24(1), 92–106. https://doi.org/10.1007/BF02691947
A14: =Sheet2!A9+1 -> 44273 | D14: Communication Theory | E14: Subdisciplines and Perspectives | F14: Engaged Scholarship | G14: Nygreen, K. (2006). Reproducing or Challenging Power in the Questions We Ask and the Methods We Use. The Urban Review, 38(1), 1–26.
A15: =Sheet2!A10+1 -> 44273 | D15: Communication Theory | E15: Subdisciplines and Perspectives | F15: Engaged Scholarship | G15: Kahl, D. H., Jr. (2010). Making a difference: (Re) connecting communication scholarship with pedagogy. Journal of Applied Communication Research, 38(3), 298–302.
A16: =Sheet2!A11+1 -> 44273 | D16: Communication Theory | E16: Subdisciplines and Perspectives | F16: Engaged Scholarship | G16: Villanueva, G., Broad, G. M., Gonzalez, C., Ball-Rokeach, S., & Murphy, S. T. (2016). Communication Asset Mapping: An ecological field application toward building health communities. International Journal of Communication, 10, 2704–2724.
A17: =Sheet2!A16+1 -> 44274 | D17: Communication Theory | E17: Subdisciplines and Perspectives | F17: Global Comm | G17: Crofts Wiley, S. B. (2004). Rethinking Nationality in the Context of Globalization. Communication Theory, 14(1), 78–96.
A18: =Sheet1!A59+1 -> 44272 | D18: Communication Theory | E18: Subdisciplines and Perspectives | F18: Global Comm | G18: Alleyne, M. D. (2009). International Communication Theories. In S. W. Littlejohn & K. A. Foss (Eds.), Encyclopedia of Communication Theory (pp. 537–541). SAGE.
A19: =Sheet1!A60+1 -> 44272 | D19: Communication Theory | E19: Subdisciplines and Perspectives | F19: Global Comm | G19: Saint-Jacques, B. (2011). Intercultural Communication in a Globalized World. In L. A. Samovar, R. E. Porter, & E. R. McDaniel (Eds.), Intercultural Communication: A Reader (13th ed.). Cengage Learning.
A20: =Sheet1!A61+1 -> 44272 | D20: Communication Theory | E20: Subdisciplines and Perspectives | F20: Interpersonal Comm | G20: Berger, C. R. (2005). Interpersonal Communication: Theoretical Perspectives, Future Prospects. Journal of Communication, 55(3), 415–447.
A21: =Sheet1!A62+1 -> 44272 | D21: Communication Theory | E21: Subdisciplines and Perspectives | F21: Interpersonal Comm | G21: Berger, C. R. (2008). Interpersonal Communication. In W. Donsbach (Ed.), The International Encyclopedia of Communication. Wiley-Blackwell.
A22: =Sheet2!A17+1 -> 44275 | D22: Communication Theory | E22: Subdisciplines and Perspectives | F22: Interpersonal Comm | G22: McDermott, V. (2009). Interpersonal Communication Theories. In S. W. Littlejohn & K. A. Foss (Eds.), Encyclopedia of Communication Theory. SAGE.
A23: =Sheet1!A79+1 -> 44276 | D23: Communication Theory | E23: Subdisciplines and Perspectives | F23: Rhetorical Perspectives | G23: McKerrow, R. (1989). Critical Rhetoric: Theory and Praxis. Communication Monographs, 56, 91–111.
A24: =Sheet1!A80+1 -> 44276 | D24: Communication Theory | E24: Subdisciplines and Perspectives | F24: Rhetorical Perspectives | G24: Jasinski, J. (2001). The status of theory and method in rhetorical criticism. Western Journal of Communication, 65(3), 249–270.
A25: =Sheet1!A81+1 -> 44276 | D25: Communication Theory | E25: Subdisciplines and Perspectives | F25: Rhetorical Perspectives | G25: Porrovecchio, M., & Condit, C. (2016). Introduction. In Contemporary Rhetorical Theory: A Reader.
A26: =Sheet1!A82+1 -> 44277 | D26: Communication Theory | E26: Subdisciplines and Perspectives | F26: Rhetorical Perspectives | G26: King, K. R. (2017). Three waves of gay male athlete coming out narratives. Quarterly Journal of Speech, 103(4), 372–394. https://doi.org/10.1080/00335630.2017.1360509
A29: =Sheet1!A135+1 -> 44288 | D29: Organizational Communication | E29: Sociomateriality in Organizations | G29: Burrell, J. (2012). The Materiality of Rumor. In P. M. Leonardi, B. A. Nardi, & J. Kallinikos (Eds.), Materiality and Organizing (pp. 315–331). Oxford University Press. https://doi.org/10.1093/acprof:oso/9780199664054.003.0016
A30: =Sheet1!A136+1 -> 44288 | D30: Organizational Communication | E30: Sociomateriality in Organizations | G30: Cooren, F., Fairhurst, G., & Huët, R. (2012). Why Matter Always Matters in (Organizational) Communication. In P. M. Leonardi, B. A. Nardi, & J. Kallinikos (Eds.), Materiality and Organizing (pp. 296–314). Oxford University Press. https://doi.org/10.1093/acprof:oso/9780199664054.003.0015
